BEGIN:VCALENDAR
VERSION:2.0
PRODID:-//hacksw/handcal//NONSGML v1.0//EN
BEGIN:VEVENT
UID:94b570b4f58d94789f6f89c8d77346ad
DTSTAMP:20260421T052922Z

DTSTART:20160420T190000
DTEND:20160420T190000
SUMMARY:Πρόγραμμα ΕΣΠΑ σχετικό με τους Δήμους και την κοινωνική οικονομία
DESCRIPTION:Η Δημοτική Κίνηση ΗΛΙΟΥ-πόλις, ανθρώπινη πόλη, διοργανώνει την Τετάρτη εκδήλωση με θέμα :
"Πρόγραμμα ΕΣΠΑ σχετικό με τους Δήμους και την κοινωνική οικονομία"
Η εκδήλωση θα πραγματοποιηθεί στο αναψυκτήριο του άλσους "Δημήτρης Κιντής" (στην κάτω αίθουσα).
LOCATION:
END:VEVENT

END:VCALENDAR
