BEGIN:VCALENDAR
VERSION:2.0
PRODID:-//hacksw/handcal//NONSGML v1.0//EN
BEGIN:VEVENT
UID:7d3a252df6203816505d9d3e16a7c1a7
DTSTAMP:20260420T190613Z

DTSTART:20160410T200000
DTEND:20160410T223000
SUMMARY:Προβολή ταινίας ΠΑΛΛΗΚΑΡΙ – Ο ΛΟΥΗΣ ΤΙΚΑΣ ΚΑΙ Η ΣΦΑΓΗ ΤΟΥ ΛΑΝΤΛΟΟΥ
DESCRIPTION:Η Κινηματογραφική Λέσχη Ηλιούπολης σας προσκαλεί:
την ΚΥΡΙΑΚΗ  10/04/2016 

στην εκδήλωσή της 

ΚΟΛΟΡΑΝΤΟ 1914:  ΑΠΕΡΓΙΑ ΔΙΑΡΚΕΙΑΣ ΤΩΝ  ΑΝΘΡΑΚΩΡΥΧΩΝ – Η ΔΟΛΟΦΟΝΙΑ ΤΟΥ ΕΛΛΗΝΑ ΜΕΤΑΝΑΣΤΗ, ΑΝΘΡΑΚΩΡΥΧΟΥ ΚΑΙ ΣΥΝΔΙΚΑΛΙΣΤΗ ΗΛΙΑ ΣΠΑΝΤΙΔΑΚΗ (ΛΟΥΗ ΤΙΚΑ) 

ΠΑΛΛΗΚΑΡΙ – Ο ΛΟΥΗΣ ΤΙΚΑΣ ΚΑΙ Η ΣΦΑΓΗ ΤΟΥ ΛΑΝΤΛΟΟΥ
(PALIKARI – LOUIS TIKAS AND THE LUDLOW MASSACRE)
του Νίκου Βεντούρα (ΕΛΛΑΔΑ, 2014, έγχρωμη, 92΄)

Θα ακολουθήσει συζήτηση με εισηγητές τους: 
Νίκο Βεντούρα (σκηνοθέτη της ταινίας), 
Λαμπρινή Χ. Θωμά (ερευνήτρια, σεναριογράφο και παραγωγό της ταινίας) και 
Πελαγία Μαρκέτου (ιστορικό, μεταφράστρια του βιβλίου Buried Unsung: Louis Tikas and the Ludlow Massacre [1991]/Αμοιρολόιτος: Ο Λούις Τίκας και η σφαγή στο Λάντλοου [2002] του Ζήση Παπανικόλα).

* 1ο Βραβείο Ταινίας Ντοκιμαντέρ Μεγάλου Μήκους στο Φεστιβάλ Ελληνικού Ντοκιμαντέρ-Docfest Χαλκίδας
* Βραβείο Καλύτερης Πρωτότυπης Μουσικής (Μάνος Βεντούρας) στο Φεστιβάλ Ελληνικού Ντοκιμαντέρ-Docfest Χαλκίδας 


ΚΥΡΙΑΚΗ 10 ΑΠΡΙΛΙΟΥ 2016 ΣΤΙΣ 8:00 μ.μ.
ΣΤΟ ΜΟΥΣΕΙΟ ΕΘΝΙΚΗΣ ΑΝΤΙΣΤΑΣΗΣ
(Μαρ. Αντύπα 134 και Σοφ. Βενιζέλου 100, Ηλιούπολη,
Τηλ.: 2109941199, 2109914732, 6945405825, E-mail: info@klh.gr ,
Ιστοσελίδα: http://www.klh.gr) 
LOCATION:
END:VEVENT

END:VCALENDAR
