BEGIN:VCALENDAR
VERSION:2.0
PRODID:-//hacksw/handcal//NONSGML v1.0//EN
BEGIN:VEVENT
UID:795df4d558d3d8c97779cadd7746fd3f
DTSTAMP:20260421T100031Z

DTSTART:20160416T100000
DTEND:20160417T200000
SUMMARY:Πασχαλινό Παζάρι της Ζωοφιλικής
DESCRIPTION:Που θα βρείτε υπέροχα πράγματα για το σπίτι, εσάς και τους τετράποδους 
φίλους σας, εκλεκτό καφέ, πεντανόστιμα χειροποίητα φαγητά και γλυκά; 
Εθελοντές να σας ενημερώσουν για το έργο μας και τις ανάγκες μας και 
κάποια απο τα ζωάκια μας που ψάχνουν σπίτι;
Μα φυσικά στο πασχαλινό μπαζάρ μας!!!
16 & 17 Απριλίου, από τις 10 το πρωί μέχρι τις 8 το βράδυ θα σας 
περιμένουμε όλους στο 2ο Δημοτικό Σχολείο Ηλιούπολης, Πουσουλίδου 10.
*Μην μπερδευτείτε! Αλλάξαμε σχολείο!!!
*Μην ξεχάσετε να φέρετε τους υιοθετημένους φίλους μας!!!!!

Δείτε εδώ το video
https://www.youtube.com/watch?v=hOwKoymAQAE&feature=youtu.be

https://www.facebook.com/353427217151/videos/10154041783812152/
LOCATION:Πουσουλίδου 10, Ηλιούπολη 163 46, Ελλάδα
END:VEVENT

END:VCALENDAR
