BEGIN:VCALENDAR
VERSION:2.0
PRODID:-//hacksw/handcal//NONSGML v1.0//EN
BEGIN:VEVENT
UID:9fcf2e17051c64c8164a8863b1de3a51
DTSTAMP:20260420T202437Z

DTSTART:20160403T200000
DTEND:20160403T200000
SUMMARY:Προβολή ταινίας «aPolis» της Κατερίνας Τζόβα
DESCRIPTION:Η Κινηματογραφική Λέσχη Ηλιούπολης σας προσκαλεί:
την ΚΥΡΙΑΚΗ 3/4/2016

στην εκδήλωσή της

ΔΙΗΓΗΣΕΙΣ ΜΙΑΣ ΠΟΛΙΤΙΣΣΑΣ – Η ΜΝΗΜΗ ΠΟΥ ΤΑΞΙΔΕΥΕΙ, ΤΑ ΧΡΩΜΑΤΑ, ΟΙ ΗΧΟΙ, ΤΑ ΒΛΕΜΜΑΤΑ ΓΙΑ ΤΑ ΟΡΑΤΑ ΚΑΙ ΑΟΡΑΤΑ ΥΛΙΚΑ ΜΙΑΣ ΚΑΘΗΜΕΡΙΝΗΣ ΖΩΗΣ

Θα προβληθεί η ταινία
«aPolis»
της Κατερίνας Τζόβα (ΕΛΛΑΔΑ, 2015, έγχρωμη, 59΄)

Θα ακολουθήσει συζήτηση με εισηγητές τους Κατερίνα Τζόβα (σκηνοθέτιδα της ταινίας) και Ανδρέα Τύρο (κριτικό κινηματογράφου, Πρόεδρο της Πανελλήνιας Ένωσης Κριτικών Κινηματογράφου).

 Βραβείο Πανελλήνιας Ένωσης Κριτικών Κινηματογράφου στο Φεστιβάλ Ελληνικού Ντοκιμαντέρ-Docfest Χαλκίδας
 3ο Βραβείο Ταινίας Ντοκιμαντέρ Μεγάλου Μήκους στο Φεστιβάλ Ελληνικού Ντοκιμαντέρ-Docfest Χαλκίδας
 Βραβείο Φωτογραφίας και Βραβείο Πρωτοεμφανιζόμενου Διευθυντή Φωτογραφίας/Ένωση Ελλήνων Διευθυντών Φωτογραφίας (Ιωάννης Στεφανίδης) στο Φεστιβάλ Ελληνικού Ντοκιμαντέρ-Docfest Χαλκίδας
 Βραβείο Μουσικής (Βασίλης Κουτσιλιέρης) στο Φεστιβάλ Ελληνικού Ντοκιμαντέρ-Docfest Χαλκίδας

ΚΥΡΙΑΚΗ 3 ΑΠΡΙΛΙΟΥ 2016 ΣΤΙΣ 8:00 μ.μ.
ΣΤΟ ΜΟΥΣΕΙΟ ΕΘΝΙΚΗΣ ΑΝΤΙΣΤΑΣΗΣ
(Μαρ. Αντύπα 134 και Σοφ. Βενιζέλου 100, Ηλιούπολη,
Τηλ.: 2109941199, 2109914732, 6945405825, E-mail: info@klh.gr,
Ιστοσελίδα: http://www.klh.gr)

LOCATION:
END:VEVENT

END:VCALENDAR
