BEGIN:VCALENDAR
VERSION:2.0
PRODID:-//hacksw/handcal//NONSGML v1.0//EN
BEGIN:VEVENT
UID:62389df3a8d0436f105d757308de7019
DTSTAMP:20260421T093608Z

DTSTART:20160330T183000
DTEND:20160330T183000
SUMMARY:Γυναικεία Κοινωνική Προσφορά και Αλληλεγγύη στους Πρόσφυγες
DESCRIPTION:Η κ. Κουρή Μαρία, Δημοτική Σύμβουλος Επικεφαλής της Επιτροπής Ισότητας του Δήμου ηλιούπολης και μέλος του CEMR της ΚΕΔΕ και της ΕΝΑ σας προσκαλεί στην εκδήλωση:
Γυναικεία Κοινωνική Προσφορά και Αλληλεγγύη στους Πρόσφυγες

στο Δημοτικό Αναψυκτήριο Δ.Κιντής 
Ύδρας και Μνησικλέους, Ηλιούπολη
την Τετάρτη 30 Μαρτίου 2016 και ώρα 18:30


LOCATION:Ύδρας 2, Ηλιούπολη 163 45, Ελλάδα
END:VEVENT

END:VCALENDAR
