BEGIN:VCALENDAR
VERSION:2.0
PRODID:-//hacksw/handcal//NONSGML v1.0//EN
BEGIN:VEVENT
UID:ababe3e77c31cd7a3ae835345691ef97
DTSTAMP:20260421T021642Z

DTSTART:20160330T080000
DTEND:20160330T223000
SUMMARY:Παρουσίαση του έργου του συμπολίτη μας Φοίβου Οικονομίδη, συγγραφέα-δημοσιογράφου
DESCRIPTION:Παρουσίαση του έργου του συμπολίτη μας Φοίβου Οικονομίδη, συγγραφέα-δημοσιογράφου.
LOCATION:
END:VEVENT

END:VCALENDAR
