BEGIN:VCALENDAR
VERSION:2.0
PRODID:-//hacksw/handcal//NONSGML v1.0//EN
BEGIN:VEVENT
UID:124f4d4832eca5014858d95a860ff75f
DTSTAMP:20260419T180143Z

DTSTART:20160331T153000
DTEND:20160331T153000
SUMMARY:Kοινή συνεδρίαση των Δημοτικών Συμβουλίων Ηλιούπολης, Αργυρούπολης - Ελληνικού και Αλίμου
DESCRIPTION:Σας προσκαλούμε σε κοινή συνεδρίαση του Δημοτικού Συμβουλίου Ηλιούπολης με τα Δημοτικά Συμβούλια των Δήμων Ελληνικού – Αργυρούπολης και Αλίμου, στις 31 Μαρτίου 2016, ημέρα Πέμπτη και ώρα 15:30 στην ειδική αίθουσα συνεδριάσεων του Δημαρχιακού Μεγάρου Ηλιούπολης «Κώστας Κονδύλης» (Σοφοκλή Βενιζέλου 114), με μοναδικό θέμα:

 Εξελίξεις σχετικά με τη Δημόσια Περιουσία

     
                              Οι Πρόεδροι των Δημοτικών Συμβουλίων

 Δήμου Ηλιούπολης         Δήμου Αργυρούπολης Ελληνικού             Δήμου Αλίμου

Κώστας Γ. Σεφτελής         Γιάννης Τσαρπαλής                     Γιώτα Προυντζοπούλου
LOCATION:Λεωφ. Σοφοκλή Βενιζέλου 114, Ηλιούπολη 163 42, Ελλάδα
END:VEVENT

END:VCALENDAR
