BEGIN:VCALENDAR
VERSION:2.0
PRODID:-//hacksw/handcal//NONSGML v1.0//EN
BEGIN:VEVENT
UID:5558e44fc3169168eab212ddc5b04dc9
DTSTAMP:20260419T145756Z

DTSTART:20160331T180000
DTEND:20160331T180000
SUMMARY:Συνεδρίαση του Δημοτικού Συμβουλίου - Δήμου Ηλιούπολης
DESCRIPTION:Σας προσκαλούμε σε τακτική συνεδρίαση του Δημοτικού Συμβουλίου, στις 31 Μαρτίου 2016, ημέρα Πέμπτη και ώρα 18:00 στην ειδική αίθουσα συνεδριάσεων του Δημαρχιακού Μεγάρου «Κώστας Κονδύλης» (Σοφοκλή Βενιζέλου 114), με θέματα:


1. Νομικές δεσμεύσεις, καθορισμός τρόπου εκτέλεσης έργων, προμηθειών, εργασιών, εγκρίσεις μελετών κλπ. της Διεύθυνσης Οικονομικών Υπηρεσιών


2. Νομικές δεσμεύσεις, καθορισμός τρόπου εκτέλεσης έργων, προμηθειών, εργασιών, εγκρίσεις μελετών κλπ. της Διεύθυνσης Τεχνικών Υπηρεσιών


3. Νομικές δεσμεύσεις, καθορισμός τρόπου εκτέλεσης έργων, προμηθειών, εργασιών, εγκρίσεις μελετών κλπ. της Διεύθυνσης Περιβάλλοντος, Ποιότητας Ζωής και Καθαριότητας


4. Νομικές δεσμεύσεις, καθορισμός τρόπου εκτέλεσης έργων, προμηθειών, εργασιών, εγκρίσεις μελετών κλπ. της Διεύθυνσης Κοινωνικών Υπηρεσιών


5. Νομική δέσμευση, έγκριση μελέτης, ψήφιση πίστωσης, καθορισμός τρόπου εκτέλεσης και ορισμός επιτροπής παρακολούθησης για την «Προμήθεια φωτογραφιών για διάφορες εκδηλώσεις του Δήμου Ηλιούπολης» για το έτος 2016 του Αυτοτελούς τμήματος Πολιτισμού, Αθλητισμού, Νέας Γενιάς και Εξυπηρέτησης του Δημότη


6. Αναμόρφωση προϋπολογισμού του Ν.Π.Δ.Δ. «ΚΑΦΑΔΗΛ», έτους 2016


7. Αναμόρφωση προϋπολογισμού του Ν.Π.Δ.Δ. «ΠΑΟΔΗΛ», έτους 2016
8. Αναμόρφωση προϋπολογισμού Δήμου


9. Έκτακτες οικονομικές ενισχύσεις


10. Εξουσιοδότηση υπολόγων χρηματικών ενταλμάτων προπληρωμής και υπολόγων παγίας προκαταβολής


11. Τροποποίηση Α.Δ.Σ. 287/2015 περί καθορισμού τελών κατάληψης κοινοχρήστων χώρων για το έτος 2016


12. Λήψη ή μη απόφασης για την αναγκαιότητα προμήθειας ειδών καθαριότητας πόλης από το ΦΑΡΟ ΤΥΦΛΩΝ ΤΗΣ ΕΛΛΑΔΑΣ με την διαδικασία της απευθείας ανάθεσης και ανάληψη ή μη νομικής δέσμευσης


13. Ανάληψη ή μη νομικής δέσμευσης & εγγραφή του Δήμου ως συνδρομητή σε εφημερίδες, περιοδικά και ηλεκτρονικά μέσα


14. Έγκριση πρόσληψης προσωπικού ιδιωτικού δικαίου ορισμένου χρόνου για την πυροπροστασία


15. Έγκριση προσωπικού ιδιωτικού δικαίου ορισμένου χρόνου για την υπηρεσία πρασίνου

Ο Πρόεδρος
του Δημοτικού Συμβουλίου
Κώστας Γ. Σεφτελής

LOCATION:Λεωφ. Σοφοκλή Βενιζέλου 114, Ηλιούπολη 163 42, Ελλάδα
END:VEVENT

END:VCALENDAR
