BEGIN:VCALENDAR
VERSION:2.0
PRODID:-//hacksw/handcal//NONSGML v1.0//EN
BEGIN:VEVENT
UID:d9f247631b0c653ecaff7fcb07a719cd
DTSTAMP:20260420T212347Z

DTSTART:20160328T200000
DTEND:20160328T220000
SUMMARY:3ο φεστιβάλ Πολιτισμού και Αλληλεγγύης. Παρουσίαση Βιβλίου.
DESCRIPTION:ΣΥΖΗΤΗΣΗ ΜΕ ΤΗΝ ΣΥΓΓΡΑΦΕΑ ΠΕΝΥ ΠΑΠΑΔΑΚΗ ΚΑΙ ΑΝΑΓΝΩΣΗ ΑΠΟΣΠΑΣΜΑΤΩΝ ΑΠΟ ΤΟ ΒΙΒΛΙΟ ΤΗΣ "ΤΟ ΖΕΙΜΠΕΚΙΚΟ ΤΗΣ ΚΑΤΙΝΑΣ"

LOCATION:
END:VEVENT

END:VCALENDAR
