BEGIN:VCALENDAR
VERSION:2.0
PRODID:-//hacksw/handcal//NONSGML v1.0//EN
BEGIN:VEVENT
UID:fe6cf925e8b96486a62a8f2fb8a3bc97
DTSTAMP:20260421T094111Z

DTSTART:20160323T223000
DTEND:20160323T223000
SUMMARY:ΔΗΜΟΣ ΗΛΙΟΥΠΟΛΗΣ-ΚΑΦΑΔΗΛ/ΑΦΙΕΡΩΜΑ ΣΤΟ ΧΡΟΝΙΚΟ ΤΗΣ 25ης ΜΑΡΤΙΟΥ 1821 
DESCRIPTION: Αφιέρωμα στο χρονικό της 25ης Μαρτίου στο  Αμφιθέατρο του Δημαρχιακού Μεγάρου.
Η είσοδος είναι ελεύθερη
LOCATION:Λεωφ. Σοφοκλή Βενιζέλου 114, Ηλιούπολη 163 42, Ελλάδα
END:VEVENT

END:VCALENDAR
