BEGIN:VCALENDAR
VERSION:2.0
PRODID:-//hacksw/handcal//NONSGML v1.0//EN
BEGIN:VEVENT
UID:f0a9f0d9a37d3e3bd2c52319093040dc
DTSTAMP:20260421T093814Z

DTSTART:20160320T000000
DTEND:20160320T000000
SUMMARY:Εκδήλωση-Συζήτηση για πρόσφυγες και μετανάστες
DESCRIPTION:Η Πρωτοβουλία Αγώνα & Αλληλεγγύης για τους πρόσφυγες και μετανάστες στα νότια προάστια σας καλεί την Κυριακή 20 Μαρτίου και ώρα 11:00 στο Μουσείο εθνικής αντίστασης στην Ηλιούπολη (Μαρίνου Αντύπα 134 & Σοφοκλή Βενιζέλου 100)

Θα πραγματοποιήσουμε αντιιμπεριαλιστική - αντιπολεμική εκδήλωση συζητώντας όλες τις εξελίξεις για το προσφυγικό μεταναστευτικό, την εμπλοκή του ΝΑΤΟ, την όξυνση των ιμπεριαλιστικών ανταγωνισμών και του πολέμου στην περιοχή, τις εξελίξεις στην Τουρκία, τις αποφάσεις και τις πολιτικές που εφαρμόζει η Ε.Ε. καθώς και τις ευθύνες τις ελληνικής κυβέρνησης.

Θα μιλήσουν:
Γεράσιμος Λιβιτσάνος δημοσιογράφος (Unfollow, the press project)
Μανόλης Αρκολάκης Ιστορικός
Τούρκος συναγωνιστής

Εκτός από τις συλλογικότητες, τα σωματεία και τους συλλόγους που συμμετέχουν στην πρωτοβουλία θα παρέμβουν, ο Συντονισμός σωματείων, συλλογικοτήτων και φοιτητικών συλλόγων για το προσφυγικό μεταναστευτικό, η αντιπολεμική διεθνιστική κίνηση, η επιτροπή αλληλεγγύης στρατευμένων δίκτυο ελευθέρων φαντάρων Σπάρτακος και πολιτικές οργανώσεις.

LOCATION:Λεωφ. Μαρίνου Αντύπα και Λεωφ. Σοφοκλή Βενιζέλου, Ηλιούπολη 163 42, Ελλάδα
END:VEVENT

END:VCALENDAR
