BEGIN:VCALENDAR
VERSION:2.0
PRODID:-//hacksw/handcal//NONSGML v1.0//EN
BEGIN:VEVENT
UID:de594d41d586f123c3e21707c4c5a3ee
DTSTAMP:20260421T100140Z

DTSTART:20160316T190000
DTEND:20160316T190000
SUMMARY:ΣΥΡΙΖΑ Ο.Μ ΗΛΙΟΥΠΟΛΗΣ: Το Παράλληλο Πρόγραμμα για την Υγεία
DESCRIPTION:ΠΡΟΣΚΛΗΣΗ

Σας προσκαλούμε στην εκδήλωση που διοργανώνει η Ο.Μ. ΣΥΡΙΖΑ Ηλιούπολης με θέμα Το Παράλληλο Πρόγραμμα για την Υγεία και ομιλητή τον Αναπληρωτή Υπουργό Υγείας Παύλο Πολάκη.

LOCATION:
END:VEVENT

END:VCALENDAR
