BEGIN:VCALENDAR
VERSION:2.0
PRODID:-//hacksw/handcal//NONSGML v1.0//EN
BEGIN:VEVENT
UID:6800826d8d471d3aa0b50f0b0240b9af
DTSTAMP:20260421T031739Z

DTSTART:20160311T000000
DTEND:20160315T000000
SUMMARY:ΚΟΠΗ ΒΑΣΙΛΟΠΙΤΑΣ – ΟΜΑΔΙΚΗ ΕΙΚΑΣΤΙΚΗ ΕΚΘΕΣΗ
DESCRIPTION:ΚΟΠΗ ΒΑΣΙΛΟΠΙΤΑΣ – ΟΜΑΔΙΚΗ ΕΙΚΑΣΤΙΚΗ ΕΚΘΕΣΗ – στο ΜΟΥΣΕΙΟ ΕΘΝΙΚΗΣ ΑΝΤΙΣΤΑΣΗΣ ΗΛΙΟΥΠΟΛΗΣ

ΠΑΡΑΣΚΕΥΗ, 11-ΜΑΡ-2016 έως ΤΡΙΤΗ, 15-ΜΑΡ-2016

 Η Ένωση Καλλιτεχνών & Λογοτεχνών Ηλιούπολης «Το Εργαστήρι», προγραμματίζει Ομαδική Εικαστική Έκθεση με την ευκαιρία της καθιερωμένης Κοπής της Πρωτοχρονιάτικης Βασιλόπιτας στο Μουσείο Εθνικής Αντίστασης Ηλιούπολης την Παρασκευή, 11-Μαρ-2016.

          Η εκδήλωση, στο Μουσείο Εθνικής Αντίστασης, θα περιλαμβάνει Ομαδική Έκθεση Ζωγραφικής, Αγιογραφίας και Χειροποίητων δημιουργιών από τα μέλη της Ένωσης.

Τα εγκαίνια της Εκδήλωσης θα γίνουν στις 19:00, ημέρα Παρασκευή 11-Μαρ-2016 στο Μουσείο Εθνικής Αντίστασης Ηλιούπολης, Μαρίνου Αντύπα & Ελ. Βενιζέλου

Η Έκθεση θα διαρκέσει μέχρι
την Τρίτη, 15-Μαρ-2016 με Ελεύθερη Είσοδο


Όσα από τα μέλη μας επιθυμούν να συμμετάσχουν στην Έκθεση, θα πρέπει να προσκομίσουν από δύο (2) έργα έκαστος, στο «Βαγόνι» μέχρι Τετάρτη 9-Μαρ-2016.
 

Τετάρτη, 9-Μαρ-2016

Εκ μέρους του Προέδρου και του Δ.Σ. της Ένωσης,

Στέλιος Μαρούλης




LOCATION:Λεωφ. Μαρίνου Αντύπα 134, Ηλιούπολη 163 46, Ελλάδα
END:VEVENT

END:VCALENDAR
