BEGIN:VCALENDAR
VERSION:2.0
PRODID:-//hacksw/handcal//NONSGML v1.0//EN
BEGIN:VEVENT
UID:253679631ac9e11b6ad298092e841368
DTSTAMP:20260421T021509Z

DTSTART:20160306T000000
DTEND:20160309T000000
SUMMARY:Έκθεση ψηφιδωτών  από τη Βάσω Φλώρου
DESCRIPTION:Πρόσκληση 
Σας προσκαλώ στην έκθεση έργων μου που θα παρουσιαστεί στο Μουσείο Εθνικής Αντίστασης, 5-9 Μαρτίου και ώρες 10:00-13:00 και 17:00-21:00

Βάσω Φλώρου
LOCATION:Λεωφ. Σοφοκλή Βενιζέλου 100, Ηλιούπολη 163 41, Ελλάδα
END:VEVENT

END:VCALENDAR
