BEGIN:VCALENDAR
VERSION:2.0
PRODID:-//hacksw/handcal//NONSGML v1.0//EN
BEGIN:VEVENT
UID:8a44f6ed27eac985491c52ab48715a8a
DTSTAMP:20260419T132149Z

DTSTART:20160304T210000
DTEND:20160304T210000
SUMMARY:ΗΛΙΟΥ-Πόλις, ανθρώπινη πόλη - Αποκριάτικος χορός
DESCRIPTION:ΠΡΟΣΚΛΗΣΗ

Η Δημοτική Κίνηση «ΗΛΙΟΥ-πόλις, ανθρώπινη πόλη» σας προσκαλεί στον αποκριάτικο χορό της , που θα πραγματοποιηθεί  την Παρασκευή 4 Μαρτίου 2016 και ώρα 9,00 μ.μ. στο Δημοτικό αναψυκτήριο του άλσους «Δημήτρης Κιντής»
Φαγητό με συλλογική κουζίνα, κρασάκι, τραγούδι, χορός και φυσικά… μασκαράδες θα είναι η συνταγή της κεφάτης βραδιάς.
Δώστε φτερά στη φαντασία σας και ελάτε να ξαναζωντανέψουμε τους παλιούς καλούς αποκριάτικους χορούς .
Σας περιμένουμε 

LOCATION:Ύδρας 2, Ηλιούπολη 163 45, Ελλάδα
END:VEVENT

END:VCALENDAR
