BEGIN:VCALENDAR
VERSION:2.0
PRODID:-//hacksw/handcal//NONSGML v1.0//EN
BEGIN:VEVENT
UID:03da27b6fa01b6cf8dabb817f50797b4
DTSTAMP:20260419T145558Z

DTSTART:20160305T210000
DTEND:20160305T210000
SUMMARY:Απόκριες με το ΠΕΡΙΠΟΛΟ
DESCRIPTION:ΠΡΟΣΚΛΗΣΗ

 Ελάτε να γιορτάσουμε μαζί τις απόκριες το σαββάτο 5 Μαρτίου στο δημοτικό αναψυκτήριο του άλσους(Δ.Κιντής)
Ύδρας 2 Ηλιούπολη στις 9μ.μ με ζωντανή μουσική, φαγητό, ποτό και πολύ χορό, μασκέ ή όχι.

Σας περιμένουμε

Δηλώσεις συμμετοχής στα τηλ. 2105224924 κιν.6957818001 έως τις 3 Μαρτίου

ΠΕΡΙ.ΠΟΛ.Ο ΑΤΤΙΚΗΣ
LOCATION:Ύδρας 2, Ηλιούπολη 163 45, Ελλάδα
END:VEVENT

END:VCALENDAR
