BEGIN:VCALENDAR
VERSION:2.0
PRODID:-//hacksw/handcal//NONSGML v1.0//EN
BEGIN:VEVENT
UID:7bb65b2a0f04e34161625181c4948c12
DTSTAMP:20260419T145338Z

DTSTART:20160304T183000
DTEND:20160304T183000
SUMMARY:Μουσικό  αφιέρωμα στο ρεμπέτικο τραγούδι
DESCRIPTION:Το  ρεμπέτικο  τραγούδι  που  έγινε  σύμβολο  ελπίδας  και  
αισιοδοξίας    του  Μικρασιατικού  Ελληνισμού  δίνοντας  του  
δύναμη  να αντιμετωπίσει,  τις δυσκολίες και  αντιξοότητες, της 
πολυτάραχης ζωής τους.
Σε  εμάς,  ως    απόγονοι    των    προσφυγών  του  1922,    γίνεται 
σύμβολο αλληλεγγύης και  ανθρωπιάς για τους συμπολίτες μας. 
Σας    προσκαλούμε    ως  Ιωνική  Στέγη  Ηλιούπολης  να 
συμμετάσχετε στο Μουσικό αφιέρωμα για την Μικρασία   της 
καρδίας  μας    την  Παρασκευή    4/3/2016    &  ώρα  16:30  στο 
θέατρο του  Δημαρχιακού Μεγάρου Ηλιούπολης.
Το    σπουδαστικό  τμήμα  Ελληνικής  Μουσικής    του    Ωδείου 
Αθηνών με Διευθυντή ορχήστρα του Ανδρέα Τσεκούρα  θα μας 
ταξιδεύσει σε μουσικά μονοπάτια της παράδοσης της Μικρασία  
& της  πόλης.      
Η είσοδος ελεύθερη και  αντί εισιτηρίου  Θα συγκεντρωθούν  
τρόφιμα  Μακράς Διάρκειας  για τα συσσίτια των ενοριών μας 
LOCATION:
END:VEVENT

END:VCALENDAR
