BEGIN:VCALENDAR
VERSION:2.0
PRODID:-//hacksw/handcal//NONSGML v1.0//EN
BEGIN:VEVENT
UID:3ea8751e072deebc2adfdb480470ac1a
DTSTAMP:20260420T202557Z

DTSTART:20160228T080000
DTEND:20160228T080000
SUMMARY:ΟΙ ΡΟΜΑ ΣΤΗΝ ΕΛΛΑΔΑ
DESCRIPTION:ΟΙ ΦΥΛΕΣ ΤΩΝ ΡΟΜΑ
Νίκος Αναγνωστόπουλος (2015, έγχρωμη, 44' )
Θα ακολουθήσει συζήτηση με εισηγητές τους Νίκο Αναγνωστόπουλο (σκηνοθέτη της ταινίας), Μανώλη Ράντη (Διευθυντή του Δικτύου ΡΟΜ), Στάθη Γκότση (ιστορικό, υπεύθυνο του Γραφείου Εκπαιδευτικών Προγραμμάτων του Βυζαντινού και Χριστιανικού Μουσείου) και Παύλο Κάγιο (συγγραφέα, δημοσιογράφο).
LOCATION:Λεωφ. Μαρίνου Αντύπα και Λεωφ. Σοφοκλή Βενιζέλου, Ηλιούπολη 163 42, Ελλάδα
END:VEVENT

END:VCALENDAR
