BEGIN:VCALENDAR
VERSION:2.0
PRODID:-//hacksw/handcal//NONSGML v1.0//EN
BEGIN:VEVENT
UID:7c20b0cf88d69474e7bb88af12bfb9f5
DTSTAMP:20260419T123615Z

DTSTART:20160228T113000
DTEND:20160228T113000
SUMMARY:Παιδική εκδήλωση στο Απρόβλεπτο
DESCRIPTION:Το βιβλιοπωλείο Απρόβλεπτο και οι εκδόσεις Μεταίχμιο προσκαλούν τους μικρούς τους φίλους σε εκδήλωση με αφορμή το βιβλίο της Μαίρης Τσόγκα "Διάβασέ μου κι άλλο"
την Κυριακή 28 Φεβρουαρόιου 2016, στις 11:30 το πρωί στον χώρο του βιβλιοπωλείου.

Η συγγραφέας Μαίρη Τσόγκα θα αφηγηθεί την ιστορία του γάρου Κροίσου, ο οποίος ζει ξέγνιαστα σε ένα πλουσιόσπιτο, ώσπου η κρίση φέρνει τα πάνω κάτω στη ζωή του. Πως θα μπορέσει να συνεχίσει τη ζωή του ο καλοθρεμμένος και καλοζωισμένος γάτος, όταν θα βρεθεί ταλαιπωρήμενος και τραυματισμένος σε ένα καταφύγιο για αδέσποτα ζώας Και γιατί ο δεκάχρονος Μάνος, ένα αγόρι με δυσκολίες στην ανάγνωση, τον επισκέπτεται στο καταφύγιο και του διαβάζει ιστορίες με γάτες; Θα μπορέσει άραγε ο Κροίσος να ξανανιώσει βασιλιάς;

Μια ιστορία για την ελπίδα μέσα στις δυσκολίες και τις ανατροπές της ζωής, για τη θεραπευτική δύναμη των παραμυθιών, για τη φιλία, και την αποδοχή άνευ όρων.

Για παιδιά από 8 ετών

Τηλέφωνο επικοινωνίας: 2109940110
LOCATION:Ρήγα Φεραίου 25, Ηλιούπολη 163 43, Ελλάδα
END:VEVENT

END:VCALENDAR
