BEGIN:VCALENDAR
VERSION:2.0
PRODID:-//hacksw/handcal//NONSGML v1.0//EN
BEGIN:VEVENT
UID:67d24a897168c4e98e41ae374bcfe892
DTSTAMP:20260420T180348Z

DTSTART:20150820T100000
DTEND:20150820T100000
SUMMARY:Λαϊκή Επιτροπή: Θερινό Σινεμά με την ταινία του Κεν Λόουτς "Jimmy's Hall"
DESCRIPTION:Η Λαϊκή Επιτροπή Ηλιούπολης πραγματοποιεί προβολές ταινιών τον Αύγουστο 
13/8: ‘‘Τι έχουν να δουν τα μάτια μου’’ του Θόδωρου Μαραγκού 
20/8: ‘‘Jimmy's Hall’’ του Κεν Λόουτς (Ken Loach) 
27/8: ‘‘Δυο μέρες και μια νύχτα’’ των αδελφών Νταρντέν

LOCATION:Kalavriton, Ilioupoli 163 46, Greece
END:VEVENT

END:VCALENDAR
